BEGIN:VCALENDAR
VERSION:2.0
PRODID:-//wp-events-plugin.com//7.2.3.1//EN
TZID:America/New_York
X-WR-TIMEZONE:America/New_York
BEGIN:VEVENT
UID:9070@hudsonvalleysojourner.com
DTSTART;TZID=America/New_York:20260705T000000
DTEND;TZID=America/New_York:20260705T000000
DTSTAMP:20260419T051443Z
URL:https://www.hudsonvalleysojourner.com/free-events/2025-roscoe-farmers-
 maket-2026-05-17-2026-05-24-2026-05-31-2026-06-07-2026-06-14-2026-06-21-20
 26-06-28-2026-07-05/
SUMMARY:2025 Roscoe Farmers' Maket
DESCRIPTION:Roscoe Farmers' Market showcases a diverse array of local vendo
 rs\, offering a variety of high-quality products.
CATEGORIES:Farmers Markets Hudson Valley &amp; Catskills,Farmers Markets
 Sullivan County
LOCATION:Roscoe\, 1950 Old Rte 17\, Roscoe\, NY\, Catskill Mountains\, Unit
 ed States
X-APPLE-STRUCTURED-LOCATION;VALUE=URI;X-ADDRESS=1950 Old Rte 17\, Roscoe\, 
 NY\, Catskill Mountains\, United States;X-APPLE-RADIUS=100;X-TITLE=Roscoe:
 geo:0,0
END:VEVENT
BEGIN:VTIMEZONE
TZID:America/New_York
X-LIC-LOCATION:America/New_York
BEGIN:DAYLIGHT
DTSTART:20260308T030000
TZOFFSETFROM:-0500
TZOFFSETTO:-0400
TZNAME:EDT
END:DAYLIGHT
END:VTIMEZONE
END:VCALENDAR