BEGIN:VCALENDAR
VERSION:2.0
PRODID:-//wp-events-plugin.com//7.2.3.1//EN
TZID:America/New_York
X-WR-TIMEZONE:America/New_York
BEGIN:VEVENT
UID:8953@hudsonvalleysojourner.com
DTSTART;TZID=America/New_York:20260906T100000
DTEND;TZID=America/New_York:20260906T140000
DTSTAMP:20260418T135625Z
URL:https://www.hudsonvalleysojourner.com/free-events/2026-franklin-farmer
 s-market-2026-09-06/
SUMMARY:2026 Franklin Farmers’ Market\,
DESCRIPTION:Franklin Farmers' Market showcases a diverse selection of local
  products\, including fresh meats\, a variety of vegetables and fruits\, f
 arm-fresh products.
CATEGORIES:Farmers Markets Delaware County,Farmers Markets Hudson Valley
 &amp; Catskills
LOCATION:Chapel Hall\, 25 Institute Street\, Franklin\, NY\, Catskill Mount
 ains\, United States
X-APPLE-STRUCTURED-LOCATION;VALUE=URI;X-ADDRESS=25 Institute Street\, Frank
 lin\, NY\, Catskill Mountains\, United States;X-APPLE-RADIUS=100;X-TITLE=C
 hapel Hall:geo:0,0
END:VEVENT
BEGIN:VTIMEZONE
TZID:America/New_York
X-LIC-LOCATION:America/New_York
BEGIN:DAYLIGHT
DTSTART:20260308T030000
TZOFFSETFROM:-0500
TZOFFSETTO:-0400
TZNAME:EDT
END:DAYLIGHT
END:VTIMEZONE
END:VCALENDAR