BEGIN:VCALENDAR
VERSION:2.0
PRODID:-//wp-events-plugin.com//7.2.3.1//EN
TZID:America/New_York
X-WR-TIMEZONE:America/New_York
BEGIN:VEVENT
UID:9132@hudsonvalleysojourner.com
DTSTART;TZID=America/New_York:20260801T150000
DTEND;TZID=America/New_York:20260801T180000
DTSTAMP:20260419T210328Z
URL:https://www.hudsonvalleysojourner.com/free-events/2026-hobart-farmers-
 market-2026-08-01/
SUMMARY:2026 Hobart Farmers’ Market
DESCRIPTION:The Hobart Farmers’ Market showcases a wide variety of local 
 and regional produce and goods.
CATEGORIES:Farmers Markets Delaware County,Farmers Markets Hudson Valley
 &amp; Catskills
LOCATION:Book Village Inn\, 760 Main Street\, Hobart\, NY\, Catskill Mounta
 ins\, United States
X-APPLE-STRUCTURED-LOCATION;VALUE=URI;X-ADDRESS=760 Main Street\, Hobart\, 
 NY\, Catskill Mountains\, United States;X-APPLE-RADIUS=100;X-TITLE=Book Vi
 llage Inn:geo:0,0
END:VEVENT
BEGIN:VTIMEZONE
TZID:America/New_York
X-LIC-LOCATION:America/New_York
BEGIN:DAYLIGHT
DTSTART:20260308T030000
TZOFFSETFROM:-0500
TZOFFSETTO:-0400
TZNAME:EDT
END:DAYLIGHT
END:VTIMEZONE
END:VCALENDAR