BEGIN:VCALENDAR
VERSION:2.0
PRODID:-//wp-events-plugin.com//7.2.3.1//EN
TZID:America/New_York
X-WR-TIMEZONE:America/New_York
BEGIN:VEVENT
UID:9005@hudsonvalleysojourner.com
DTSTART;TZID=America/New_York:20260730T170000
DTEND;TZID=America/New_York:20260730T200000
DTSTAMP:20260419T021658Z
URL:https://www.hudsonvalleysojourner.com/free-events/2026-music-farmers-m
 arket-in-the-park-2026-06-11-2026-06-18-2026-06-25-2026-07-02-2026-07-09-2
 026-07-16-2026-07-23-2026-07-30/
SUMMARY:2026 Music & Farmers Market in the Park
DESCRIPTION:The Music & Farmers Market in the Park is a community event eve
 ry Thursday evening.
CATEGORIES:Farmers Markets Hudson Valley &amp; Catskills,Farmers Markets
 Sullivan County
LOCATION:Veteran's Memorial Park\, Sullivan &amp\; 3rd Streets\, Wurtzboro\
 , NY\, Catskill Mountains\, 
X-APPLE-STRUCTURED-LOCATION;VALUE=URI;X-ADDRESS=Sullivan & 3rd Streets\, Wu
 rtzboro\, NY\, Catskill Mountains\, ;X-APPLE-RADIUS=100;X-TITLE=Veteran's 
 Memorial Park:geo:0,0
END:VEVENT
BEGIN:VTIMEZONE
TZID:America/New_York
X-LIC-LOCATION:America/New_York
BEGIN:DAYLIGHT
DTSTART:20260308T030000
TZOFFSETFROM:-0500
TZOFFSETTO:-0400
TZNAME:EDT
END:DAYLIGHT
END:VTIMEZONE
END:VCALENDAR