BEGIN:VCALENDAR
VERSION:2.0
PRODID:-//wp-events-plugin.com//7.2.3.1//EN
TZID:America/New_York
X-WR-TIMEZONE:America/New_York
BEGIN:VEVENT
UID:8977@hudsonvalleysojourner.com
DTSTART;TZID=America/New_York:20260620T100000
DTEND;TZID=America/New_York:20260620T130000
DTSTAMP:20260418T224422Z
URL:https://www.hudsonvalleysojourner.com/free-events/2026-narrowsburg-far
 mers-market-2026-05-16-2026-05-23-2026-05-30-2026-06-06-2026-06-13-2026-06
 -20/
SUMMARY:2026 Narrowsburg Farmers Market
DESCRIPTION:The Narrowsburg Farmers' Markey offers a wide selection of seas
 onal fruits\, vegetables\, herbs\, meats\, eggs\, prepared foods\, baked g
 oods\, cut flowers\, and more.
CATEGORIES:Farmers Markets Rockland County,Farmers Markets Sullivan County
LOCATION:The Narrowsburg Union\, 7 Erie Ave\, Narrowsburg\, NY\, Catskill M
 ountains\, United States
X-APPLE-STRUCTURED-LOCATION;VALUE=URI;X-ADDRESS=7 Erie Ave\, Narrowsburg\, 
 NY\, Catskill Mountains\, United States;X-APPLE-RADIUS=100;X-TITLE=The Nar
 rowsburg Union:geo:0,0
END:VEVENT
BEGIN:VTIMEZONE
TZID:America/New_York
X-LIC-LOCATION:America/New_York
BEGIN:DAYLIGHT
DTSTART:20260308T030000
TZOFFSETFROM:-0500
TZOFFSETTO:-0400
TZNAME:EDT
END:DAYLIGHT
END:VTIMEZONE
END:VCALENDAR