BEGIN:VCALENDAR
VERSION:2.0
PRODID:-//wp-events-plugin.com//7.2.3.1//EN
TZID:America/New_York
X-WR-TIMEZONE:America/New_York
BEGIN:VEVENT
UID:9021@hudsonvalleysojourner.com
DTSTART;TZID=America/New_York:20260627T100000
DTEND;TZID=America/New_York:20260627T130000
DTSTAMP:20260419T023350Z
URL:https://www.hudsonvalleysojourner.com/free-events/2026-pakatakan-farme
 rs-market-2026-05-16-2026-05-23-2026-05-30-2026-06-06-2026-06-13-2026-06-2
 0-2026-06-27/
SUMMARY:2026 Pakatakan Farmers’ Market
DESCRIPTION:At the Pakatakan Farmers’ Market\, which transforms with the 
 changing seasons\, you will find a wide variety of products carefully sour
 ced from local\, organic\, and sustainable farms.
CATEGORIES:Farmers Markets Delaware County,Farmers Markets Hudson Valley
 &amp; Catskills
LOCATION:The Round Barn\, State Highway 30\, Halcottsville\, NY\, 12438\, C
 atskill Mountains\, United States
X-APPLE-STRUCTURED-LOCATION;VALUE=URI;X-ADDRESS=State Highway 30\, Halcotts
 ville\, NY\, 12438\, Catskill Mountains\, United States;X-APPLE-RADIUS=100
 ;X-TITLE=The Round Barn:geo:0,0
END:VEVENT
BEGIN:VTIMEZONE
TZID:America/New_York
X-LIC-LOCATION:America/New_York
BEGIN:DAYLIGHT
DTSTART:20260308T030000
TZOFFSETFROM:-0500
TZOFFSETTO:-0400
TZNAME:EDT
END:DAYLIGHT
END:VTIMEZONE
END:VCALENDAR