BEGIN:VCALENDAR
VERSION:2.0
PRODID:-//wp-events-plugin.com//7.2.3.1//EN
TZID:America/New_York
X-WR-TIMEZONE:America/New_York
BEGIN:VEVENT
UID:9048@hudsonvalleysojourner.com
DTSTART;TZID=America/New_York:20260627T100000
DTEND;TZID=America/New_York:20260627T130000
DTSTAMP:20260419T032347Z
URL:https://www.hudsonvalleysojourner.com/free-events/2026-rock-hill-farme
 rs-market-2026-06-06-2026-06-13-2026-06-20-2026-06-27/
SUMMARY:2026 Rock Hill Farmers' Market
DESCRIPTION:The Rock Hill Farmers’ Market features a wide variety of loca
 l seasonal produce\, prepared foods and crafted items..
CATEGORIES:Farmers Markets Hudson Valley &amp; Catskills,Farmers Markets
 Sullivan County
LOCATION:Rock Hill\, 61 Glen Wild Rd\, Rock Hill\, NY\, Catskill Mountains\
 , 
X-APPLE-STRUCTURED-LOCATION;VALUE=URI;X-ADDRESS=61 Glen Wild Rd\, Rock Hill
 \, NY\, Catskill Mountains\, ;X-APPLE-RADIUS=100;X-TITLE=Rock Hill:geo:0,0
END:VEVENT
BEGIN:VTIMEZONE
TZID:America/New_York
X-LIC-LOCATION:America/New_York
BEGIN:DAYLIGHT
DTSTART:20260308T030000
TZOFFSETFROM:-0500
TZOFFSETTO:-0400
TZNAME:EDT
END:DAYLIGHT
END:VTIMEZONE
END:VCALENDAR