BEGIN:VCALENDAR
VERSION:2.0
PRODID:-//wp-events-plugin.com//7.2.3.1//EN
TZID:America/New_York
X-WR-TIMEZONE:America/New_York
BEGIN:VEVENT
UID:9096@hudsonvalleysojourner.com
DTSTART;TZID=America/New_York:20260808T100000
DTEND;TZID=America/New_York:20260808T140000
DTSTAMP:20260419T054045Z
URL:https://www.hudsonvalleysojourner.com/free-events/2026-saugerties-farm
 ers-market-2026-05-30-2026-06-06-2026-06-13-2026-06-20-2026-06-27-2026-07-
 04-2026-07-11-2026-07-18-2026-07-25-2026-08-01-2026-08-08/
SUMMARY:2026 Saugerties Farmers Market
DESCRIPTION:2026 Saugerties Farmers Market has over 20 vendors offering a w
 ide variety of fresh local produce\, seasonal specialties\, and delicious 
 prepared foods
CATEGORIES:Farmers Markets Hudson Valley &amp; Catskills,Farmers Markets
 Ulster County
LOCATION:Cahill School Parking Lot\, 115 Main Street\, Saugerties\, NY\, Mi
 d Hudson Valley\, United States
X-APPLE-STRUCTURED-LOCATION;VALUE=URI;X-ADDRESS=115 Main Street\, Saugertie
 s\, NY\, Mid Hudson Valley\, United States;X-APPLE-RADIUS=100;X-TITLE=Cahi
 ll School Parking Lot:geo:0,0
END:VEVENT
BEGIN:VTIMEZONE
TZID:America/New_York
X-LIC-LOCATION:America/New_York
BEGIN:DAYLIGHT
DTSTART:20260308T030000
TZOFFSETFROM:-0500
TZOFFSETTO:-0400
TZNAME:EDT
END:DAYLIGHT
END:VTIMEZONE
END:VCALENDAR