BEGIN:VCALENDAR
VERSION:2.0
PRODID:-//wp-events-plugin.com//7.2.3.1//EN
TZID:America/New_York
X-WR-TIMEZONE:America/New_York
BEGIN:VEVENT
UID:9144@hudsonvalleysojourner.com
DTSTART;TZID=America/New_York:20260523T160000
DTEND;TZID=America/New_York:20260523T220000
DTSTAMP:20260419T215636Z
URL:https://www.hudsonvalleysojourner.com/free-events/2026-sons-and-daught
 ers-of-italy-italian-festival-2026-05-21-2026-05-22-2026-05-23/
SUMMARY:2026 Sons and Daughters of Italy Italian Festival
DESCRIPTION:The Italian Festival is an opportunity to enjoy a variety of en
 tertainment\, Italian food\, crafts\, and family-friendly activities.
CATEGORIES:Cultural Events,Fairs &amp; Festivals
LOCATION:East Fishkill Recreation\, Donald Way Blvd\, Hopewell Junction\, N
 Y\, Mid-Hudson Valley\, United States
X-APPLE-STRUCTURED-LOCATION;VALUE=URI;X-ADDRESS=Donald Way Blvd\, Hopewell 
 Junction\, NY\, Mid-Hudson Valley\, United States;X-APPLE-RADIUS=100;X-TIT
 LE=East Fishkill Recreation:geo:0,0
END:VEVENT
BEGIN:VTIMEZONE
TZID:America/New_York
X-LIC-LOCATION:America/New_York
BEGIN:DAYLIGHT
DTSTART:20260308T030000
TZOFFSETFROM:-0500
TZOFFSETTO:-0400
TZNAME:EDT
END:DAYLIGHT
END:VTIMEZONE
END:VCALENDAR