BEGIN:VCALENDAR
VERSION:2.0
PRODID:-//wp-events-plugin.com//7.2.3.1//EN
TZID:America/New_York
X-WR-TIMEZONE:America/New_York
BEGIN:VEVENT
UID:9117@hudsonvalleysojourner.com
DTSTART;TZID=America/New_York:20260820T100000
DTEND;TZID=America/New_York:20260820T130000
DTSTAMP:20260419T174414Z
URL:https://www.hudsonvalleysojourner.com/free-events/2026-sullivan-fresh-
 monticello-farmers-market-2026-08-20/
SUMMARY:2026 Sullivan Fresh Monticello Farmers' Market
DESCRIPTION:The Monticello Farmers' Market boasts a wide and diverse select
 ion of farm fresh products and crafted goods.
CATEGORIES:Farmers Markets Hudson Valley &amp; Catskills,Farmers Markets
 Sullivan County
LOCATION:ed Stroeble Recreation Center\, 10 Jefferson Street\, Monticello\,
  NY\, Catskill Mountains\, United States
X-APPLE-STRUCTURED-LOCATION;VALUE=URI;X-ADDRESS=10 Jefferson Street\, Monti
 cello\, NY\, Catskill Mountains\, United States;X-APPLE-RADIUS=100;X-TITLE
 =ed Stroeble Recreation Center:geo:0,0
END:VEVENT
BEGIN:VTIMEZONE
TZID:America/New_York
X-LIC-LOCATION:America/New_York
BEGIN:DAYLIGHT
DTSTART:20260308T030000
TZOFFSETFROM:-0500
TZOFFSETTO:-0400
TZNAME:EDT
END:DAYLIGHT
END:VTIMEZONE
END:VCALENDAR