BEGIN:VCALENDAR
VERSION:2.0
PRODID:-//wp-events-plugin.com//7.2.3.1//EN
TZID:America/New_York
X-WR-TIMEZONE:America/New_York
BEGIN:VEVENT
UID:8871@hudsonvalleysojourner.com
DTSTART;TZID=America/New_York:20261219T100000
DTEND;TZID=America/New_York:20261219T200000
DTSTAMP:20260416T055346Z
URL:https://www.hudsonvalleysojourner.com/free-events/albany-shop-til-you-
 drop-vendor-market-2026-12-18-2026-12-19/
SUMMARY:2026 Albany Shop Til You Drop Vendor Market
DESCRIPTION:The Shop til You Drop Vendor Market will showcase around 75 ven
 dors offering various products. 
CATEGORIES:Craft Fairs
LOCATION:Colonie Center Mall\, 131 Colonie Center\, Albany\, NY\, 12205\, U
 pper Hudson Valley\, United States
X-APPLE-STRUCTURED-LOCATION;VALUE=URI;X-ADDRESS=131 Colonie Center\, Albany
 \, NY\, 12205\, Upper Hudson Valley\, United States;X-APPLE-RADIUS=100;X-T
 ITLE=Colonie Center Mall:geo:0,0
END:VEVENT
BEGIN:VTIMEZONE
TZID:America/New_York
X-LIC-LOCATION:America/New_York
BEGIN:STANDARD
DTSTART:20261101T010000
TZOFFSETFROM:-0400
TZOFFSETTO:-0500
TZNAME:EST
END:STANDARD
END:VTIMEZONE
END:VCALENDAR