BEGIN:VCALENDAR
VERSION:2.0
PRODID:-//wp-events-plugin.com//7.2.3.1//EN
TZID:America/New_York
X-WR-TIMEZONE:America/New_York
BEGIN:VEVENT
UID:8934@hudsonvalleysojourner.com
DTSTART;TZID=America/New_York:20261017T100000
DTEND;TZID=America/New_York:20261017T130000
DTSTAMP:20260418T130459Z
URL:https://www.hudsonvalleysojourner.com/free-events/barryville-farmers-m
 arket-2026-10-17/
SUMMARY:2026 Barryville Farmers' Market
DESCRIPTION:The Barryville Farmers' Market is a popular outdoor community m
 arket situated along the picturesque Delaware River.
CATEGORIES:Farmers Markets Hudson Valley &amp; Catskills,Farmers Markets
 Sullivan County
LOCATION:Barryville\, 3405 NY-97\, Barryville\, NY\, Catskill Mountains\, U
 nited States
X-APPLE-STRUCTURED-LOCATION;VALUE=URI;X-ADDRESS=3405 NY-97\, Barryville\, N
 Y\, Catskill Mountains\, United States;X-APPLE-RADIUS=100;X-TITLE=Barryvil
 le:geo:0,0
END:VEVENT
BEGIN:VTIMEZONE
TZID:America/New_York
X-LIC-LOCATION:America/New_York
BEGIN:DAYLIGHT
DTSTART:20260308T030000
TZOFFSETFROM:-0500
TZOFFSETTO:-0400
TZNAME:EDT
END:DAYLIGHT
END:VTIMEZONE
END:VCALENDAR