BEGIN:VCALENDAR
VERSION:2.0
PRODID:-//wp-events-plugin.com//7.2.3.1//EN
TZID:America/New_York
X-WR-TIMEZONE:America/New_York
BEGIN:VEVENT
UID:9148@hudsonvalleysojourner.com
DTSTART;TZID=America/New_York:20260606T100000
DTEND;TZID=America/New_York:20260606T120000
DTSTAMP:20260422T003334Z
URL:https://www.hudsonvalleysojourner.com/free-events/big-truck-day/
SUMMARY:Big Truck Day At The FASNY Museum of Firefighting
DESCRIPTION:Big Truck Day is all about large trucks\, sit inside the truck 
 cabs. Fire trucks\, utility vehicles\, a school bus\, and many other vehic
 les.
CATEGORIES:Car &amp; Truck Shows
LOCATION:FASNY Museum of Firefighting\, 117 Harry Howard Avenue\, Hudson\, 
 NY\, 12534\, Upper Hudson Valley\, United States
X-APPLE-STRUCTURED-LOCATION;VALUE=URI;X-ADDRESS=117 Harry Howard Avenue\, H
 udson\, NY\, 12534\, Upper Hudson Valley\, United States;X-APPLE-RADIUS=10
 0;X-TITLE=FASNY Museum of Firefighting:geo:0,0
END:VEVENT
BEGIN:VTIMEZONE
TZID:America/New_York
X-LIC-LOCATION:America/New_York
BEGIN:DAYLIGHT
DTSTART:20260308T030000
TZOFFSETFROM:-0500
TZOFFSETTO:-0400
TZNAME:EDT
END:DAYLIGHT
END:VTIMEZONE
END:VCALENDAR