BEGIN:VCALENDAR
VERSION:2.0
PRODID:-//wp-events-plugin.com//7.2.3.1//EN
TZID:America/New_York
X-WR-TIMEZONE:America/New_York
BEGIN:VEVENT
UID:9146@hudsonvalleysojourner.com
DTSTART;TZID=America/New_York:20260502T110000
DTEND;TZID=America/New_York:20260502T110000
DTSTAMP:20260419T223717Z
URL:https://www.hudsonvalleysojourner.com/free-events/chatham/
SUMMARY:Chatham…In Our Own Words
DESCRIPTION:Personal interviews with community members provide heartfelt in
 sights into Chatham's rich history.
CATEGORIES:History &amp; Historical Figures
LOCATION:The Crandell Theatre\, 48 Main Street\, Chatham\, NY\, Upper Hudso
 n Valley\, United States
X-APPLE-STRUCTURED-LOCATION;VALUE=URI;X-ADDRESS=48 Main Street\, Chatham\, 
 NY\, Upper Hudson Valley\, United States;X-APPLE-RADIUS=100;X-TITLE=The Cr
 andell Theatre:geo:0,0
END:VEVENT
BEGIN:VTIMEZONE
TZID:America/New_York
X-LIC-LOCATION:America/New_York
BEGIN:DAYLIGHT
DTSTART:20260308T030000
TZOFFSETFROM:-0500
TZOFFSETTO:-0400
TZNAME:EDT
END:DAYLIGHT
END:VTIMEZONE
END:VCALENDAR