BEGIN:VCALENDAR
VERSION:2.0
PRODID:-//wp-events-plugin.com//7.2.3.1//EN
TZID:America/New_York
X-WR-TIMEZONE:America/New_York
BEGIN:VEVENT
UID:9180@hudsonvalleysojourner.com
DTSTART;TZID=America/New_York:20260502T000000
DTEND;TZID=America/New_York:20260502T000000
DTSTAMP:20260422T022026Z
URL:https://www.hudsonvalleysojourner.com/free-events/crafty-kids-crafting
 -day/
SUMMARY:Crafty Kids Crafting Day at Clermont State Historic Site
DESCRIPTION:Crafty Kids Crafting Day\, a lively spring-inspired event at th
 e Clermont State Historic Site Visitors Center!
CATEGORIES:For Kids
LOCATION:Clermont State Historic Site\, 1 Clermont Ave.\, Germantown\, NY\,
  Upper Hudson Valley\, United States
X-APPLE-STRUCTURED-LOCATION;VALUE=URI;X-ADDRESS=1 Clermont Ave.\, Germantow
 n\, NY\, Upper Hudson Valley\, United States;X-APPLE-RADIUS=100;X-TITLE=Cl
 ermont State Historic Site:geo:0,0
END:VEVENT
BEGIN:VTIMEZONE
TZID:America/New_York
X-LIC-LOCATION:America/New_York
BEGIN:DAYLIGHT
DTSTART:20260308T030000
TZOFFSETFROM:-0500
TZOFFSETTO:-0400
TZNAME:EDT
END:DAYLIGHT
END:VTIMEZONE
END:VCALENDAR