BEGIN:VCALENDAR
VERSION:2.0
PRODID:-//wp-events-plugin.com//7.2.3.1//EN
TZID:America/New_York
X-WR-TIMEZONE:America/New_York
BEGIN:VEVENT
UID:8866@hudsonvalleysojourner.com
DTSTART;TZID=America/New_York:20261205T090000
DTEND;TZID=America/New_York:20261205T180000
DTSTAMP:20260416T054216Z
URL:https://www.hudsonvalleysojourner.com/free-events/deck-the-halls-holid
 ay-show-in-albany-2026-12-05/
SUMMARY:2026 Deck The Halls Holiday Show In Albany
DESCRIPTION:Join us for an enchanting day filled with diverse vendors to ma
 ke your holiday shopping a breeze.
CATEGORIES:Craft Fairs,Fairs &amp; Festivals
LOCATION:Colonie Center Mall\, 131 Colonie Center\, Albany\, NY\, 12205\, U
 pper Hudson Valley\, United States
X-APPLE-STRUCTURED-LOCATION;VALUE=URI;X-ADDRESS=131 Colonie Center\, Albany
 \, NY\, 12205\, Upper Hudson Valley\, United States;X-APPLE-RADIUS=100;X-T
 ITLE=Colonie Center Mall:geo:0,0
END:VEVENT
BEGIN:VTIMEZONE
TZID:America/New_York
X-LIC-LOCATION:America/New_York
BEGIN:STANDARD
DTSTART:20261101T010000
TZOFFSETFROM:-0400
TZOFFSETTO:-0500
TZNAME:EST
END:STANDARD
END:VTIMEZONE
END:VCALENDAR