BEGIN:VCALENDAR
VERSION:2.0
PRODID:-//wp-events-plugin.com//7.2.3.1//EN
TZID:America/New_York
X-WR-TIMEZONE:America/New_York
BEGIN:VEVENT
UID:9152@hudsonvalleysojourner.com
DTSTART;TZID=America/New_York:20260504T100000
DTEND;TZID=America/New_York:20260504T170000
DTSTAMP:20260422T014921Z
URL:https://www.hudsonvalleysojourner.com/free-events/dutchess-handmade-sp
 ring-pop-up-shop-2026-04-30-2026-05-01-2026-05-04/
SUMMARY:Dutchess Handmade Spring Pop-Up Shop
DESCRIPTION:Looking for the perfect gift for Mother's Day\, Father's Day\, 
 or a graduation? Arts Mid-Hudson is excited to present The Dutchess Handma
 de Spring Pop-Up Shop.
CATEGORIES:Craft Fairs
LOCATION:Arts Mid-Hudson\, 696 Dutchess Turnpike\, Poughkeepsie\, NY\, Mid-
 Hudson Valley\, 
X-APPLE-STRUCTURED-LOCATION;VALUE=URI;X-ADDRESS=696 Dutchess Turnpike\, Pou
 ghkeepsie\, NY\, Mid-Hudson Valley\, ;X-APPLE-RADIUS=100;X-TITLE=Arts Mid-
 Hudson:geo:0,0
END:VEVENT
BEGIN:VTIMEZONE
TZID:America/New_York
X-LIC-LOCATION:America/New_York
BEGIN:DAYLIGHT
DTSTART:20260308T030000
TZOFFSETFROM:-0500
TZOFFSETTO:-0400
TZNAME:EDT
END:DAYLIGHT
END:VTIMEZONE
END:VCALENDAR