BEGIN:VCALENDAR
VERSION:2.0
PRODID:-//wp-events-plugin.com//7.2.3.1//EN
TZID:America/New_York
X-WR-TIMEZONE:America/New_York
BEGIN:VEVENT
UID:9147@hudsonvalleysojourner.com
DTSTART;TZID=America/New_York:20260530T080000
DTEND;TZID=America/New_York:20260530T150000
DTSTAMP:20260420T033136Z
URL:https://www.hudsonvalleysojourner.com/free-events/fasny-annual-car-sho
 w/
SUMMARY:FASNY 1st Annual Car Show In Hudson
DESCRIPTION:The Firemen's Association of the State of New York 1st Annual C
 ar Show promises to be a fun and exciting event for all ages.
CATEGORIES:Car &amp; Truck Shows,Fundraiser
LOCATION:FASNY Museum of Firefighting\, 117 Harry Howard Avenue\, Hudson\, 
 NY\, 12534\, Upper Hudson Valley\, United States
X-APPLE-STRUCTURED-LOCATION;VALUE=URI;X-ADDRESS=117 Harry Howard Avenue\, H
 udson\, NY\, 12534\, Upper Hudson Valley\, United States;X-APPLE-RADIUS=10
 0;X-TITLE=FASNY Museum of Firefighting:geo:0,0
END:VEVENT
BEGIN:VTIMEZONE
TZID:America/New_York
X-LIC-LOCATION:America/New_York
BEGIN:DAYLIGHT
DTSTART:20260308T030000
TZOFFSETFROM:-0500
TZOFFSETTO:-0400
TZNAME:EDT
END:DAYLIGHT
END:VTIMEZONE
END:VCALENDAR