BEGIN:VCALENDAR
VERSION:2.0
PRODID:-//wp-events-plugin.com//7.2.3.1//EN
TZID:America/New_York
X-WR-TIMEZONE:America/New_York
BEGIN:VEVENT
UID:9228@hudsonvalleysojourner.com
DTSTART;TZID=America/New_York:20260611T173000
DTEND;TZID=America/New_York:20260611T203000
DTSTAMP:20260423T045321Z
URL:https://www.hudsonvalleysojourner.com/free-events/food-truck-thursday-
 in-rye-2026-04-30-2026-05-07-2026-05-14-2026-05-21-2026-05-28-2026-06-04-2
 026-06-11/
SUMMARY:Food Truck Thursday In Rye
DESCRIPTION:Food Truck Thursday offers a fantastic opportunity for those lo
 oking to enjoy a relaxed evening without the hassle of cooking. You got it
 !
CATEGORIES:Food
LOCATION:Rye Recreation Park\, 281 Midland Ave\, Rye\, NY\, Lower Hudson Va
 lley\, United States
X-APPLE-STRUCTURED-LOCATION;VALUE=URI;X-ADDRESS=281 Midland Ave\, Rye\, NY\
 , Lower Hudson Valley\, United States;X-APPLE-RADIUS=100;X-TITLE=Rye Recre
 ation Park:geo:0,0
END:VEVENT
BEGIN:VTIMEZONE
TZID:America/New_York
X-LIC-LOCATION:America/New_York
BEGIN:DAYLIGHT
DTSTART:20260308T030000
TZOFFSETFROM:-0500
TZOFFSETTO:-0400
TZNAME:EDT
END:DAYLIGHT
END:VTIMEZONE
END:VCALENDAR