BEGIN:VCALENDAR
VERSION:2.0
PRODID:-//wp-events-plugin.com//7.2.3.1//EN
TZID:America/New_York
X-WR-TIMEZONE:America/New_York
BEGIN:VEVENT
UID:9280@hudsonvalleysojourner.com
DTSTART;TZID=America/New_York:20260614T100000
DTEND;TZID=America/New_York:20260614T160000
DTSTAMP:20260425T042415Z
URL:https://www.hudsonvalleysojourner.com/free-events/hastings-flea-2026-0
 6-14/
SUMMARY:Hastings Flea
DESCRIPTION:The Hastings Flea is a curated outdoor market that brings toget
 her vintage collectors\, local artisans\, and independent makers.
CATEGORIES:Flea Markets
LOCATION:Hastings-on-Hudson\, Southside Avenue MTA Commuter Lot\, Hastings-
 on-Hudson\, NY\, Lower Hudson Valley\, United States
X-APPLE-STRUCTURED-LOCATION;VALUE=URI;X-ADDRESS=Southside Avenue MTA Commut
 er Lot\, Hastings-on-Hudson\, NY\, Lower Hudson Valley\, United States;X-A
 PPLE-RADIUS=100;X-TITLE=Hastings-on-Hudson:geo:0,0
END:VEVENT
BEGIN:VTIMEZONE
TZID:America/New_York
X-LIC-LOCATION:America/New_York
BEGIN:DAYLIGHT
DTSTART:20260308T030000
TZOFFSETFROM:-0500
TZOFFSETTO:-0400
TZNAME:EDT
END:DAYLIGHT
END:VTIMEZONE
END:VCALENDAR