BEGIN:VCALENDAR
VERSION:2.0
PRODID:-//wp-events-plugin.com//7.2.3.1//EN
TZID:America/New_York
X-WR-TIMEZONE:America/New_York
BEGIN:VEVENT
UID:9282@hudsonvalleysojourner.com
DTSTART;TZID=America/New_York:20261101T100000
DTEND;TZID=America/New_York:20261101T160000
DTSTAMP:20260425T042625Z
URL:https://www.hudsonvalleysojourner.com/free-events/hastings-flea-2026-0
 8-09/
SUMMARY:Hastings Flea
DESCRIPTION:The Hastings Flea is a curated outdoor market that brings toget
 her vintage collectors\, local artisans\, and independent makers.
CATEGORIES:Flea Markets
LOCATION:Hastings-on-Hudson\, Southside Avenue MTA Commuter Lot\, Hastings-
 on-Hudson\, NY\, Lower Hudson Valley\, United States
X-APPLE-STRUCTURED-LOCATION;VALUE=URI;X-ADDRESS=Southside Avenue MTA Commut
 er Lot\, Hastings-on-Hudson\, NY\, Lower Hudson Valley\, United States;X-A
 PPLE-RADIUS=100;X-TITLE=Hastings-on-Hudson:geo:0,0
END:VEVENT
BEGIN:VTIMEZONE
TZID:America/New_York
X-LIC-LOCATION:America/New_York
BEGIN:STANDARD
DTSTART:20261101T010000
TZOFFSETFROM:-0400
TZOFFSETTO:-0500
TZNAME:EST
END:STANDARD
END:VTIMEZONE
END:VCALENDAR