BEGIN:VCALENDAR
VERSION:2.0
PRODID:-//wp-events-plugin.com//7.2.3.1//EN
TZID:America/New_York
X-WR-TIMEZONE:America/New_York
BEGIN:VEVENT
UID:6028@hudsonvalleysojourner.com
DTSTART;TZID=America/New_York:20250126T100000
DTEND;TZID=America/New_York:20250126T160000
DTSTAMP:20250108T013105Z
URL:https://www.hudsonvalleysojourner.com/free-events/hudson-valley-free-d
 ay-at-dia-beacon-2025-01-26/
SUMMARY:Hudson Valley Free Day at Dia Beacon
DESCRIPTION:Residents of the Hudson Valley can get free admission to Dia Be
 acon on the last Sunday of every month. 
CATEGORIES:Arts
LOCATION:Dia Beacon\, 3 Beekman Street\, Beacon\, NY\, 12508\, Mid Hudson V
 alley\, United States
X-APPLE-STRUCTURED-LOCATION;VALUE=URI;X-ADDRESS=3 Beekman Street\, Beacon\,
  NY\, 12508\, Mid Hudson Valley\, United States;X-APPLE-RADIUS=100;X-TITLE
 =Dia Beacon:geo:0,0
END:VEVENT
BEGIN:VTIMEZONE
TZID:America/New_York
X-LIC-LOCATION:America/New_York
BEGIN:STANDARD
DTSTART:20241103T010000
TZOFFSETFROM:-0400
TZOFFSETTO:-0500
TZNAME:EST
END:STANDARD
END:VTIMEZONE
END:VCALENDAR