BEGIN:VCALENDAR
VERSION:2.0
PRODID:-//wp-events-plugin.com//7.2.3.1//EN
TZID:America/New_York
X-WR-TIMEZONE:America/New_York
BEGIN:VEVENT
UID:8966@hudsonvalleysojourner.com
DTSTART;TZID=America/New_York:20260815T100000
DTEND;TZID=America/New_York:20260815T130000
DTSTAMP:20260418T215309Z
URL:https://www.hudsonvalleysojourner.com/free-events/lexington-farmers-ma
 rket-2026-05-23-2026-06-06-2026-06-20-2026-07-04-2026-07-18-2026-08-01-202
 6-08-15/
SUMMARY:Lexington Farmers’ Market
DESCRIPTION:The Lexington Farmers’ Market an array of farm fresh products
 .
CATEGORIES:Farmers Markets Greene County,Farmers Markets Hudson Valley
 &amp; Catskills
LOCATION:Municipal Building\, NY-42\, Lexington\, NY\, Upper Hudson Valley\
 , United States
X-APPLE-STRUCTURED-LOCATION;VALUE=URI;X-ADDRESS=NY-42\, Lexington\, NY\, Up
 per Hudson Valley\, United States;X-APPLE-RADIUS=100;X-TITLE=Municipal Bui
 lding:geo:0,0
END:VEVENT
BEGIN:VTIMEZONE
TZID:America/New_York
X-LIC-LOCATION:America/New_York
BEGIN:DAYLIGHT
DTSTART:20260308T030000
TZOFFSETFROM:-0500
TZOFFSETTO:-0400
TZNAME:EDT
END:DAYLIGHT
END:VTIMEZONE
END:VCALENDAR