BEGIN:VCALENDAR
VERSION:2.0
PRODID:-//wp-events-plugin.com//7.2.3.1//EN
TZID:America/New_York
X-WR-TIMEZONE:America/New_York
BEGIN:VEVENT
UID:7021@hudsonvalleysojourner.com
DTSTART;TZID=America/New_York:20250722T140000
DTEND;TZID=America/New_York:20250722T180000
DTSTAMP:20250504T110055Z
URL:https://www.hudsonvalleysojourner.com/free-events/poughkeepsie-waterfr
 ont-market-2025-07-22/
SUMMARY:Poughkeepsie Waterfront Market
DESCRIPTION:The Poughkeepsie Waterfront Market is a vibrant\, international
 \, award-winning\, seasonal farmers market.
LOCATION:Mid-Hudson Discovery Museum\, 75 N. Water St.\, Poughkeepsie\, New
  York\, 12601\, Mid-Hudson Valley\, United States
X-APPLE-STRUCTURED-LOCATION;VALUE=URI;X-ADDRESS=75 N. Water St.\, Poughkeep
 sie\, New York\, 12601\, Mid-Hudson Valley\, United States;X-APPLE-RADIUS=
 100;X-TITLE=Mid-Hudson Discovery Museum:geo:0,0
END:VEVENT
BEGIN:VTIMEZONE
TZID:America/New_York
X-LIC-LOCATION:America/New_York
BEGIN:DAYLIGHT
DTSTART:20250309T030000
TZOFFSETFROM:-0500
TZOFFSETTO:-0400
TZNAME:EDT
END:DAYLIGHT
END:VTIMEZONE
END:VCALENDAR