BEGIN:VCALENDAR
VERSION:2.0
PRODID:-//wp-events-plugin.com//7.2.3.1//EN
TZID:America/New_York
X-WR-TIMEZONE:America/New_York
BEGIN:VEVENT
UID:9232@hudsonvalleysojourner.com
DTSTART;TZID=America/New_York:20260617T173000
DTEND;TZID=America/New_York:20260617T203000
DTSTAMP:20260423T220215Z
URL:https://www.hudsonvalleysojourner.com/free-events/rock-the-block-in-wh
 ite-plains-2026-06-17/
SUMMARY:Rock The Block In White Plains
DESCRIPTION:Rock The Block\, chill out with live music\, outdoor eats\, and
  fun family activities in downtown White Plains.
CATEGORIES:Fairs &amp; Festivals,Family Fun,Music,Street Fair
LOCATION:Downtown White Plains\, Mamaroneck Ave. (between E. Post Rd. and M
 aple Ave.)\, White Plains\, NY\, Lower Hudson Valley\, 
X-APPLE-STRUCTURED-LOCATION;VALUE=URI;X-ADDRESS=Mamaroneck Ave. (between E.
  Post Rd. and Maple Ave.)\, White Plains\, NY\, Lower Hudson Valley\, ;X-A
 PPLE-RADIUS=100;X-TITLE=Downtown White Plains:geo:0,0
END:VEVENT
BEGIN:VTIMEZONE
TZID:America/New_York
X-LIC-LOCATION:America/New_York
BEGIN:DAYLIGHT
DTSTART:20260308T030000
TZOFFSETFROM:-0500
TZOFFSETTO:-0400
TZNAME:EDT
END:DAYLIGHT
END:VTIMEZONE
END:VCALENDAR