BEGIN:VCALENDAR
VERSION:2.0
PRODID:-//wp-events-plugin.com//7.2.3.1//EN
TZID:America/New_York
X-WR-TIMEZONE:America/New_York
BEGIN:VEVENT
UID:9220@hudsonvalleysojourner.com
DTSTART;TZID=America/New_York:20260621T140000
DTEND;TZID=America/New_York:20260621T190000
DTSTAMP:20260423T030911Z
URL:https://www.hudsonvalleysojourner.com/free-events/round-top-bavarian-s
 ummer-fest-2026-06-20-2026-06-21/
SUMMARY:Round Top Bavarian Summer Fest
DESCRIPTION:Experience the vibrant spirit of summer Bavarian-style at the R
 ound Top Bavarian Summer Fest held at the inviting Riedlbauer's Resort.
CATEGORIES:Cultural Events,Fairs &amp; Festivals
LOCATION:Riedlbauer's Resort\, 57 Ravine Drive\, Round Top\, NY\, Upper Hud
 son Valley\, United States
X-APPLE-STRUCTURED-LOCATION;VALUE=URI;X-ADDRESS=57 Ravine Drive\, Round Top
 \, NY\, Upper Hudson Valley\, United States;X-APPLE-RADIUS=100;X-TITLE=Rie
 dlbauer's Resort:geo:0,0
END:VEVENT
BEGIN:VTIMEZONE
TZID:America/New_York
X-LIC-LOCATION:America/New_York
BEGIN:DAYLIGHT
DTSTART:20260308T030000
TZOFFSETFROM:-0500
TZOFFSETTO:-0400
TZNAME:EDT
END:DAYLIGHT
END:VTIMEZONE
END:VCALENDAR