BEGIN:VCALENDAR
VERSION:2.0
PRODID:-//wp-events-plugin.com//7.2.3.1//EN
TZID:America/New_York
X-WR-TIMEZONE:America/New_York
BEGIN:VEVENT
UID:8868@hudsonvalleysojourner.com
DTSTART;TZID=America/New_York:20261212T100000
DTEND;TZID=America/New_York:20261212T200000
DTSTAMP:20260416T054709Z
URL:https://www.hudsonvalleysojourner.com/free-events/rudolphs-runway-holi
 day-show-in-albany-2026-12-12/
SUMMARY:2026 Rudolph’s Runway Holiday Show In Albany
DESCRIPTION:Rudolph’s Runway Holiday Show in Albany is a fun community sh
 opping event featuring your local artists and crafters.
CATEGORIES:Craft Fairs,Holiday Event
LOCATION:Colonie Center Mall\, 131 Colonie Center\, Albany\, NY\, 12205\, U
 pper Hudson Valley\, United States
X-APPLE-STRUCTURED-LOCATION;VALUE=URI;X-ADDRESS=131 Colonie Center\, Albany
 \, NY\, 12205\, Upper Hudson Valley\, United States;X-APPLE-RADIUS=100;X-T
 ITLE=Colonie Center Mall:geo:0,0
END:VEVENT
BEGIN:VTIMEZONE
TZID:America/New_York
X-LIC-LOCATION:America/New_York
BEGIN:STANDARD
DTSTART:20261101T010000
TZOFFSETFROM:-0400
TZOFFSETTO:-0500
TZNAME:EST
END:STANDARD
END:VTIMEZONE
END:VCALENDAR