BEGIN:VCALENDAR
VERSION:2.0
PRODID:-//wp-events-plugin.com//7.2.3.1//EN
TZID:America/New_York
X-WR-TIMEZONE:America/New_York
BEGIN:VEVENT
UID:9189@hudsonvalleysojourner.com
DTSTART;TZID=America/New_York:20260617T170000
DTEND;TZID=America/New_York:20260617T190000
DTSTAMP:20260422T035312Z
URL:https://www.hudsonvalleysojourner.com/free-events/sake-karaoke-at-dass
 ai-blue-sake-brewery-2026-05-06-2026-05-13-2026-05-20-2026-05-27-2026-06-0
 3-2026-06-10-2026-06-17/
SUMMARY:Sake Karaoke at Dassai Blue Sake Brewery
DESCRIPTION:Join in the lively spirit of Dassai Blue Sake Brewery's weekly 
 Sake Karaoke nights\, where fellow enthusiasts gather to share joyful perf
 ormances.
CATEGORIES:Pub Fun
LOCATION:Dassai Blue Sake Brewery\, 5 Saint Andrews Road\, Hyde Park\, NY\,
  Mid-Hudson Valley\, United States
X-APPLE-STRUCTURED-LOCATION;VALUE=URI;X-ADDRESS=5 Saint Andrews Road\, Hyde
  Park\, NY\, Mid-Hudson Valley\, United States;X-APPLE-RADIUS=100;X-TITLE=
 Dassai Blue Sake Brewery:geo:0,0
END:VEVENT
BEGIN:VTIMEZONE
TZID:America/New_York
X-LIC-LOCATION:America/New_York
BEGIN:DAYLIGHT
DTSTART:20260308T030000
TZOFFSETFROM:-0500
TZOFFSETTO:-0400
TZNAME:EDT
END:DAYLIGHT
END:VTIMEZONE
END:VCALENDAR