BEGIN:VCALENDAR
VERSION:2.0
PRODID:-//wp-events-plugin.com//7.2.3.1//EN
TZID:America/New_York
X-WR-TIMEZONE:America/New_York
BEGIN:VEVENT
UID:8458@hudsonvalleysojourner.com
DTSTART;TZID=America/New_York:20260517T100000
DTEND;TZID=America/New_York:20260517T130000
DTSTAMP:20260305T220540Z
URL:https://www.hudsonvalleysojourner.com/free-events/spring-farm-crawl-pl
 ant-sale/
SUMMARY:Spring Farm Crawl & Plant Sale!
DESCRIPTION:Spring Farm Crawl & Plant Sale is a great opportunity to explor
 e the land\, meet the farmers\, and experience the magic of Wally Farms fi
 rsthand
CATEGORIES:Agriculture,Crawlss
LOCATION:Wally Farms\, 27 Crow Hill Rd\, Ancram\, NY\, Upper Hudson Valley\
 , United States
X-APPLE-STRUCTURED-LOCATION;VALUE=URI;X-ADDRESS=27 Crow Hill Rd\, Ancram\, 
 NY\, Upper Hudson Valley\, United States;X-APPLE-RADIUS=100;X-TITLE=Wally 
 Farms:geo:0,0
END:VEVENT
BEGIN:VTIMEZONE
TZID:America/New_York
X-LIC-LOCATION:America/New_York
BEGIN:DAYLIGHT
DTSTART:20260308T030000
TZOFFSETFROM:-0500
TZOFFSETTO:-0400
TZNAME:EDT
END:DAYLIGHT
END:VTIMEZONE
END:VCALENDAR