BEGIN:VCALENDAR
VERSION:2.0
PRODID:-//wp-events-plugin.com//7.2.3.1//EN
TZID:America/New_York
X-WR-TIMEZONE:America/New_York
BEGIN:VEVENT
UID:8907@hudsonvalleysojourner.com
DTSTART;TZID=America/New_York:20260503T100000
DTEND;TZID=America/New_York:20260503T170000
DTSTAMP:20260416T100906Z
URL:https://www.hudsonvalleysojourner.com/free-events/spring-suffern-stree
 t-fair/
SUMMARY:2026 Spring Suffern Street Fair
DESCRIPTION:The Spring Suffern Street Fair marks its 31st anniversary\, bri
 nging a lively array of family-friendly activities and entertainment.
CATEGORIES:Fairs &amp; Festivals,Street Fair
LOCATION:Downtown Suffern NY\, Lafayette Ave\, Suffern\, NY\, Lower Hudson 
 Valley\, United States
X-APPLE-STRUCTURED-LOCATION;VALUE=URI;X-ADDRESS=Lafayette Ave\, Suffern\, N
 Y\, Lower Hudson Valley\, United States;X-APPLE-RADIUS=100;X-TITLE=Downtow
 n Suffern NY:geo:0,0
END:VEVENT
BEGIN:VTIMEZONE
TZID:America/New_York
X-LIC-LOCATION:America/New_York
BEGIN:DAYLIGHT
DTSTART:20260308T030000
TZOFFSETFROM:-0500
TZOFFSETTO:-0400
TZNAME:EDT
END:DAYLIGHT
END:VTIMEZONE
END:VCALENDAR