BEGIN:VCALENDAR
VERSION:2.0
PRODID:-//wp-events-plugin.com//7.2.3.1//EN
TZID:America/New_York
X-WR-TIMEZONE:America/New_York
BEGIN:VEVENT
UID:9275@hudsonvalleysojourner.com
DTSTART;TZID=America/New_York:20260516T180000
DTEND;TZID=America/New_York:20260516T220000
DTSTAMP:20260424T014958Z
URL:https://www.hudsonvalleysojourner.com/free-events/st-sophia-albany-gre
 ek-festival-2026-05-16/
SUMMARY:St. Sophia Albany Greek Festival
DESCRIPTION:St. Sophia Albany Greek Festival is an exciting and vibrant cel
 ebration of the timeless Greek culture\, the people\, the food\, and the m
 usic.
CATEGORIES:Cultural Events,Fairs &amp; Festivals
LOCATION:St. Sophia Greek Orthodox Church\, 440 Whitehall Rd\, Albany\, NY\
 , Upper Hudson Valley\, United States
X-APPLE-STRUCTURED-LOCATION;VALUE=URI;X-ADDRESS=440 Whitehall Rd\, Albany\,
  NY\, Upper Hudson Valley\, United States;X-APPLE-RADIUS=100;X-TITLE=St. S
 ophia Greek Orthodox Church:geo:0,0
END:VEVENT
BEGIN:VTIMEZONE
TZID:America/New_York
X-LIC-LOCATION:America/New_York
BEGIN:DAYLIGHT
DTSTART:20260308T030000
TZOFFSETFROM:-0500
TZOFFSETTO:-0400
TZNAME:EDT
END:DAYLIGHT
END:VTIMEZONE
END:VCALENDAR