BEGIN:VCALENDAR
VERSION:2.0
PRODID:-//wp-events-plugin.com//7.2.3.1//EN
TZID:America/New_York
X-WR-TIMEZONE:America/New_York
BEGIN:VEVENT
UID:9256@hudsonvalleysojourner.com
DTSTART;TZID=America/New_York:20260914T200000
DTEND;TZID=America/New_York:20260914T220000
DTSTAMP:20260424T005502Z
URL:https://www.hudsonvalleysojourner.com/free-events/team-trivia-in-alban
 y-2026-04-27-2026-05-04-2026-05-11-2026-05-18-2026-05-25-2026-06-01-2026-0
 6-08-2026-06-15-2026-06-22-2026-06-29-2026-07-06-2026-07-13-2026-07-20-202
 6-07-27-2026-08-03-07-2026-09-14/
SUMMARY:Team Trivia In Albany
DESCRIPTION:The Excelsior Pub offers a fun and competitive atmosphere that 
 encourages team spirit and enjoyment for all attendees.
CATEGORIES:Pub Fun
LOCATION:The Excelsior Pub\, 54 Philip St\, Albany\, NY\, Upper Hudson Vall
 ey\, United States
X-APPLE-STRUCTURED-LOCATION;VALUE=URI;X-ADDRESS=54 Philip St\, Albany\, NY\
 , Upper Hudson Valley\, United States;X-APPLE-RADIUS=100;X-TITLE=The Excel
 sior Pub:geo:0,0
END:VEVENT
BEGIN:VTIMEZONE
TZID:America/New_York
X-LIC-LOCATION:America/New_York
BEGIN:DAYLIGHT
DTSTART:20260308T030000
TZOFFSETFROM:-0500
TZOFFSETTO:-0400
TZNAME:EDT
END:DAYLIGHT
END:VTIMEZONE
END:VCALENDAR