BEGIN:VCALENDAR
VERSION:2.0
PRODID:-//wp-events-plugin.com//7.2.3.1//EN
TZID:America/New_York
X-WR-TIMEZONE:America/New_York
BEGIN:VEVENT
UID:8450@hudsonvalleysojourner.com
DTSTART;TZID=America/New_York:20260503T100000
DTEND;TZID=America/New_York:20260503T120000
DTSTAMP:20260305T214145Z
URL:https://www.hudsonvalleysojourner.com/free-events/wally-walks-2026-04-
 05-2026-05-03/
SUMMARY:Wally Walks!
DESCRIPTION:Join us on the first Sunday of every month for a stroll around 
 Wally Farms. Get a peek at what's growing and enjoy our beautiful trails. 
CATEGORIES:Agriculture
LOCATION:Wally Farms\, 27 Crow Hill Rd\, Ancram\, NY\, Upper Hudson Valley\
 , United States
X-APPLE-STRUCTURED-LOCATION;VALUE=URI;X-ADDRESS=27 Crow Hill Rd\, Ancram\, 
 NY\, Upper Hudson Valley\, United States;X-APPLE-RADIUS=100;X-TITLE=Wally 
 Farms:geo:0,0
END:VEVENT
BEGIN:VTIMEZONE
TZID:America/New_York
X-LIC-LOCATION:America/New_York
BEGIN:DAYLIGHT
DTSTART:20260308T030000
TZOFFSETFROM:-0500
TZOFFSETTO:-0400
TZNAME:EDT
END:DAYLIGHT
END:VTIMEZONE
END:VCALENDAR