BEGIN:VCALENDAR
VERSION:2.0
PRODID:-//wp-events-plugin.com//7.2.3.1//EN
TZID:America/New_York
X-WR-TIMEZONE:America/New_York
BEGIN:VEVENT
UID:9181@hudsonvalleysojourner.com
DTSTART;TZID=America/New_York:20260502T190000
DTEND;TZID=America/New_York:20260502T203000
DTSTAMP:20260422T024242Z
URL:https://www.hudsonvalleysojourner.com/free-events/west-point-band/
SUMMARY:West Point Band at Dutchess Community College
DESCRIPTION:The West Point Band is thrilled to host a special concert serie
 s celebrating America’s 250th anniversary\, showcasing inspiring music.
CATEGORIES:Music
LOCATION:Dutchess Community College\, James &amp\; Betty Hall Theatre\, 53 
 Pendell Road\, Poughkeepsie\, NY\, Mid-Hudson Valley\, United States
X-APPLE-STRUCTURED-LOCATION;VALUE=URI;X-ADDRESS=James & Betty Hall Theatre\
 , 53 Pendell Road\, Poughkeepsie\, NY\, Mid-Hudson Valley\, United States;
 X-APPLE-RADIUS=100;X-TITLE=Dutchess Community College:geo:0,0
END:VEVENT
BEGIN:VTIMEZONE
TZID:America/New_York
X-LIC-LOCATION:America/New_York
BEGIN:DAYLIGHT
DTSTART:20260308T030000
TZOFFSETFROM:-0500
TZOFFSETTO:-0400
TZNAME:EDT
END:DAYLIGHT
END:VTIMEZONE
END:VCALENDAR