BEGIN:VCALENDAR
VERSION:2.0
PRODID:-//wp-events-plugin.com//7.2.3.1//EN
TZID:America/New_York
X-WR-TIMEZONE:America/New_York
BEGIN:VEVENT
UID:6165@hudsonvalleysojourner.com
DTSTART;TZID=America/New_York:20251101T110000
DTEND;TZID=America/New_York:20251101T170000
DTSTAMP:20250112T001328Z
URL:https://www.hudsonvalleysojourner.com/free-events/westchester-fall-hom
 e-show-2025-11-01/
SUMMARY:Westchester Fall Home Show
DESCRIPTION:Westchester Fall Home Show will feature over 100 displays showc
 asing the best home improvement companies in the area. 
CATEGORIES:Home
LOCATION:Westchester County Center\, 198 Central Ave\, White Plains\, NY\, 
 Lower Hudson Valley\, United States
X-APPLE-STRUCTURED-LOCATION;VALUE=URI;X-ADDRESS=198 Central Ave\, White Pla
 ins\, NY\, Lower Hudson Valley\, United States;X-APPLE-RADIUS=100;X-TITLE=
 Westchester County Center:geo:0,0
END:VEVENT
BEGIN:VTIMEZONE
TZID:America/New_York
X-LIC-LOCATION:America/New_York
BEGIN:DAYLIGHT
DTSTART:20250309T030000
TZOFFSETFROM:-0500
TZOFFSETTO:-0400
TZNAME:EDT
END:DAYLIGHT
END:VTIMEZONE
END:VCALENDAR