BEGIN:VCALENDAR
VERSION:2.0
PRODID:-//wp-events-plugin.com//7.2.3.1//EN
TZID:America/New_York
X-WR-TIMEZONE:America/New_York
BEGIN:VEVENT
UID:8444@hudsonvalleysojourner.com
DTSTART;TZID=America/New_York:20260905T100000
DTEND;TZID=America/New_York:20260905T173000
DTSTAMP:20260304T001355Z
URL:https://www.hudsonvalleysojourner.com/free-events/woodstock-new-paltz-
 art-crafts-fair-2-2026-05-23-2026-05-24-2026-05-25-2026-09-05/
SUMMARY:Woodstock-New Paltz Art & Crafts Fair
DESCRIPTION:Over the years\, the fair has gained a reputation for attractin
 g the finest artists and craftspeople nationwide.
CATEGORIES:Craft Fairs,Fairs &amp; Festivals
LOCATION:Ulster County Fairgrounds\, 249 Libertyville Road\, New Paltz\, NY
 \, 12561\, Mid-Hudson Valley\, United States
X-APPLE-STRUCTURED-LOCATION;VALUE=URI;X-ADDRESS=249 Libertyville Road\, New
  Paltz\, NY\, 12561\, Mid-Hudson Valley\, United States;X-APPLE-RADIUS=100
 ;X-TITLE=Ulster County Fairgrounds:geo:0,0
END:VEVENT
BEGIN:VTIMEZONE
TZID:America/New_York
X-LIC-LOCATION:America/New_York
BEGIN:DAYLIGHT
DTSTART:20260308T030000
TZOFFSETFROM:-0500
TZOFFSETTO:-0400
TZNAME:EDT
END:DAYLIGHT
END:VTIMEZONE
END:VCALENDAR